BEGIN:VCALENDAR
VERSION:2.0
PRODID:-//Tukios.com/
BEGIN:VEVENT
UID:a33fa89d-aad1-4424-9c78-67868641376f@obits.jameshcole.com
DTSTAMP:20260425T002437Z
DTSTART:20260429T180000Z
DTEND:20260429T230000Z
SUMMARY:Public Viewing
DESCRIPTION:
URL:https://obits.jameshcole.com/aaron-cyrs-coleman
LOCATION:James H. Cole Home for Funerals - Northwest Chapel 16100 
	Schaefer Hwy.  Detroit MI 48235
GEO:42.4096884;-83.1791774
END:VEVENT
END:VCALENDAR