BEGIN:VCALENDAR
VERSION:2.0
PRODID:-//Tukios.com/
BEGIN:VEVENT
UID:ef105384-29c6-4633-9a0b-45392d290b47@obits.jameshcole.com
DTSTAMP:20260425T002531Z
DTSTART:20260430T150000Z
DTEND:20260430T160000Z
SUMMARY:Funeral Service
DESCRIPTION:
URL:https://obits.jameshcole.com/aaron-cyrs-coleman
LOCATION:James H. Cole Home for Funerals - Northwest Chapel 16100 
	Schaefer Hwy.  Detroit MI 48235
GEO:42.4096884;-83.1791774
END:VEVENT
END:VCALENDAR