BEGIN:VCALENDAR
VERSION:2.0
PRODID:-//Tukios.com/
BEGIN:VEVENT
UID:750a0344-bc5a-4aef-94d2-78591a348458@obits.jameshcole.com
DTSTAMP:20260421T232052Z
DTSTART:20260502T193000Z
DTEND:20260502T203000Z
SUMMARY:Funeral Service
DESCRIPTION:
URL:https://obits.jameshcole.com/ada-johnson
LOCATION:James H. Cole Home for Funerals - Northwest Chapel 16100 
	Schaefer Hwy.  Detroit MI 48235
GEO:42.4096884;-83.1791774
END:VEVENT
END:VCALENDAR