BEGIN:VCALENDAR
VERSION:2.0
PRODID:-//Tukios.com/
BEGIN:VEVENT
UID:2e30b807-da12-4b9a-9f86-f26c8bed6d2d@obits.jameshcole.com
DTSTAMP:20260421T232425Z
DTSTART:20260502T190000Z
DTEND:20260502T193000Z
SUMMARY:Family Hour
DESCRIPTION:
URL:https://obits.jameshcole.com/ada-johnson
LOCATION:James H. Cole Home for Funerals - Northwest Chapel 16100 
	Schaefer Hwy.  Detroit MI 48235
GEO:42.4096884;-83.1791774
END:VEVENT
END:VCALENDAR