BEGIN:VCALENDAR
VERSION:2.0
PRODID:-//Tukios.com/
BEGIN:VEVENT
UID:13e6a3b9-abcd-458a-b58d-4420440fe5fc@obits.jameshcole.com
DTSTAMP:20260421T220250Z
DTSTART:20260502T170000Z
DTEND:20260502T180000Z
SUMMARY:Funeral Service
DESCRIPTION:
URL:https://obits.jameshcole.com/annie-moss
LOCATION:James H. Cole Home for Funerals - Northwest Chapel 16100 
	Schaefer Hwy.  Detroit MI 48235
GEO:42.4096884;-83.1791774
END:VEVENT
END:VCALENDAR