BEGIN:VCALENDAR
VERSION:2.0
PRODID:-//Tukios.com/
BEGIN:VEVENT
UID:34c676fb-435d-4420-980a-7b59d769b2c4@obits.jameshcole.com
DTSTAMP:20260421T220250Z
DTSTART:20260502T163000Z
DTEND:20260502T170000Z
SUMMARY:Family Hour
DESCRIPTION:
URL:https://obits.jameshcole.com/annie-moss
LOCATION:James H. Cole Home for Funerals - Northwest Chapel 16100 
	Schaefer Hwy.  Detroit MI 48235
GEO:42.4096884;-83.1791774
END:VEVENT
END:VCALENDAR