BEGIN:VCALENDAR
VERSION:2.0
PRODID:-//Tukios.com/
BEGIN:VEVENT
UID:f02660be-54df-4edf-a4e7-a07a34ad023f@obits.jameshcole.com
DTSTAMP:20260421T220249Z
DTSTART:20260501T190000Z
DTEND:20260502T000000Z
SUMMARY:Public Viewing
DESCRIPTION:
URL:https://obits.jameshcole.com/annie-moss
LOCATION:James H. Cole Home for Funerals - Northwest Chapel 16100 
	Schaefer Hwy.  Detroit MI 48235
GEO:42.4096884;-83.1791774
END:VEVENT
END:VCALENDAR