BEGIN:VCALENDAR
VERSION:2.0
PRODID:-//Tukios.com/
BEGIN:VEVENT
UID:45f2f27f-3f88-498a-b4d2-912c46bf6aa1@obits.jameshcole.com
DTSTAMP:20260424T232908Z
DTSTART:20260501T150000Z
DTEND:20260501T160000Z
SUMMARY:Funeral Service
DESCRIPTION:
URL:https://obits.jameshcole.com/bobby-woods
LOCATION:James H. Cole Home for Funerals - Blvd. Chapel 2624 W. Grand 
	Blvd.  Detroit MI 48208
GEO:42.3639872;-83.0892109
END:VEVENT
END:VCALENDAR