BEGIN:VCALENDAR
VERSION:2.0
PRODID:-//Tukios.com/
BEGIN:VEVENT
UID:5187c180-98e1-46fa-81f0-208ec34a031e@obits.jameshcole.com
DTSTAMP:20260424T233005Z
DTSTART:20260501T143000Z
DTEND:20260501T150000Z
SUMMARY:Family Hour
DESCRIPTION:
URL:https://obits.jameshcole.com/bobby-woods
LOCATION:James H. Cole Home for Funerals - Blvd. Chapel 2624 W. Grand 
	Blvd.  Detroit MI 48208
GEO:42.3639872;-83.0892109
END:VEVENT
END:VCALENDAR