BEGIN:VCALENDAR
VERSION:2.0
PRODID:-//Tukios.com/
BEGIN:VEVENT
UID:5a897f77-5995-48db-a7da-0015e574a911@obits.jameshcole.com
DTSTAMP:20260424T233159Z
DTSTART:20260501
SUMMARY:Burial
DESCRIPTION:
URL:https://obits.jameshcole.com/bobby-woods
LOCATION: 4280 E Thirteen Mile Rd  Warren MI 48092
GEO:42.516651;-83.063823
END:VEVENT
END:VCALENDAR