BEGIN:VCALENDAR
VERSION:2.0
PRODID:-//Tukios.com/
BEGIN:VEVENT
UID:f08770c3-8e14-4830-a58b-ece155c34473@obits.jameshcole.com
DTSTAMP:20260425T182904Z
DTSTART:20260508T170000Z
DTEND:20260508T180000Z
SUMMARY:Memorial Service
DESCRIPTION:
URL:https://obits.jameshcole.com/bonnie-fields
LOCATION:James H. Cole Home for Funerals - Northwest Chapel 16100 
	Schaefer Hwy.  Detroit MI 48235
GEO:42.4096884;-83.1791774
END:VEVENT
END:VCALENDAR