BEGIN:VCALENDAR
VERSION:2.0
PRODID:-//Tukios.com/
BEGIN:VEVENT
UID:418e4781-e764-4064-bbe2-70827f841a53@obits.jameshcole.com
DTSTAMP:20260425T183047Z
DTSTART:20260508T163000Z
DTEND:20260508T170000Z
SUMMARY:Family Hour
DESCRIPTION:
URL:https://obits.jameshcole.com/bonnie-fields
LOCATION:James H. Cole Home for Funerals - Northwest Chapel 16100 
	Schaefer Hwy.  Detroit MI 48235
GEO:42.4096884;-83.1791774
END:VEVENT
END:VCALENDAR