BEGIN:VCALENDAR
VERSION:2.0
PRODID:-//Tukios.com/
BEGIN:VEVENT
UID:22f2635b-dc46-4045-87a9-79529c2b0fae@obits.jameshcole.com
DTSTAMP:20260422T002401Z
DTSTART:20260430T163000Z
DTEND:20260430T170000Z
SUMMARY:Family Hour
DESCRIPTION:
URL:https://obits.jameshcole.com/candis-patterson
LOCATION:James H. Cole Home for Funerals - Northwest Chapel 16100 
	Schaefer Hwy.  Detroit MI 48235
GEO:42.4096884;-83.1791774
END:VEVENT
END:VCALENDAR