BEGIN:VCALENDAR
VERSION:2.0
PRODID:-//Tukios.com/
BEGIN:VEVENT
UID:a59b15fd-7dc3-48b7-ae33-824af2227941@obits.jameshcole.com
DTSTAMP:20260422T002401Z
DTSTART:20260430T170000Z
DTEND:20260430T180000Z
SUMMARY:Funeral Service
DESCRIPTION:
URL:https://obits.jameshcole.com/candis-patterson
LOCATION:James H. Cole Home for Funerals - Northwest Chapel 16100 
	Schaefer Hwy.  Detroit MI 48235
GEO:42.4096884;-83.1791774
END:VEVENT
END:VCALENDAR