BEGIN:VCALENDAR
VERSION:2.0
PRODID:-//Tukios.com/
BEGIN:VEVENT
UID:3bc9c90a-b4ee-418c-b2f4-87df04bc1e40@obits.jameshcole.com
DTSTAMP:20260423T211540Z
DTSTART:20260424T200000Z
DTEND:20260425T010000Z
SUMMARY:Visitation
DESCRIPTION:
URL:https://obits.jameshcole.com/derek-almeida
LOCATION: 2624 W Grand Blvd  Detroit MI 48208
GEO:42.3639872;-83.0892109
END:VEVENT
END:VCALENDAR