BEGIN:VCALENDAR
VERSION:2.0
PRODID:-//Tukios.com/
BEGIN:VEVENT
UID:64428c7c-528d-4529-8a33-b60edd8f5bfa@obits.jameshcole.com
DTSTAMP:20260423T211540Z
DTSTART:20260425T130000Z
DTEND:20260425T140000Z
SUMMARY:Funeral Service
DESCRIPTION:Family Hour 8:30am
URL:https://obits.jameshcole.com/derek-almeida
LOCATION: 2624 W Grand Blvd  Detroit MI 48208
GEO:42.3639872;-83.0892109
END:VEVENT
END:VCALENDAR