BEGIN:VCALENDAR
VERSION:2.0
PRODID:-//Tukios.com/
BEGIN:VEVENT
UID:01d7482f-c462-41e9-a8a7-8c224e5bb9e4@obits.jameshcole.com
DTSTAMP:20260424T003601Z
DTSTART:20260507T180000Z
DTEND:20260507T230000Z
SUMMARY:Public Viewing
DESCRIPTION:
URL:https://obits.jameshcole.com/dorothea-mccrary
LOCATION:James H. Cole Home for Funerals - Northwest Chapel 16100 
	Schaefer Hwy.  Detroit MI 48235
GEO:42.4096884;-83.1791774
END:VEVENT
END:VCALENDAR