BEGIN:VCALENDAR
VERSION:2.0
PRODID:-//Tukios.com/
BEGIN:VEVENT
UID:ae3c7e5b-9fd6-4370-bf40-18fcdf015642@obits.jameshcole.com
DTSTAMP:20260424T003601Z
DTSTART:20260508T160000Z
DTEND:20260508T170000Z
SUMMARY:Family Hour
DESCRIPTION:
URL:https://obits.jameshcole.com/dorothea-mccrary
LOCATION:Greater Middle Missionary Baptist Church 20535 James Couzens Fwy 
	 Detroit MI 48235
GEO:42.4433723;-83.2024917
END:VEVENT
END:VCALENDAR