BEGIN:VCALENDAR
VERSION:2.0
PRODID:-//Tukios.com/
BEGIN:VEVENT
UID:21eae9dc-e49a-4122-b7b3-770674dd5e3d@obits.jameshcole.com
DTSTAMP:20260424T184804Z
DTSTART:20260508T190000Z
DTEND:20260509T000000Z
SUMMARY:Public Viewing
DESCRIPTION:
URL:https://obits.jameshcole.com/elizabeth-lanier
LOCATION:James H. Cole Home for Funerals - Northwest Chapel 16100 
	Schaefer Hwy.  Detroit MI 48235
GEO:42.4096884;-83.1791774
END:VEVENT
END:VCALENDAR