BEGIN:VCALENDAR
VERSION:2.0
PRODID:-//Tukios.com/
BEGIN:VEVENT
UID:118ba418-0208-484f-a59b-ea65ec4106e5@obits.jameshcole.com
DTSTAMP:20260424T184521Z
DTSTART:20260509T170000Z
DTEND:20260509T180000Z
SUMMARY:Funeral Service
DESCRIPTION:
URL:https://obits.jameshcole.com/elizabeth-lanier
LOCATION:James H. Cole Home for Funerals - Northwest Chapel 16100 
	Schaefer Hwy.  Detroit MI 48235
GEO:42.4096884;-83.1791774
END:VEVENT
END:VCALENDAR