BEGIN:VCALENDAR
VERSION:2.0
PRODID:-//Tukios.com/
BEGIN:VEVENT
UID:89d10ee0-0b5c-40e2-924e-356852352864@obits.jameshcole.com
DTSTAMP:20260424T184706Z
DTSTART:20260509T163000Z
DTEND:20260509T170000Z
SUMMARY:Family Hour
DESCRIPTION:
URL:https://obits.jameshcole.com/elizabeth-lanier
LOCATION:James H. Cole Home for Funerals - Northwest Chapel 16100 
	Schaefer Hwy.  Detroit MI 48235
GEO:42.4096884;-83.1791774
END:VEVENT
END:VCALENDAR