BEGIN:VCALENDAR
VERSION:2.0
PRODID:-//Tukios.com/
BEGIN:VEVENT
UID:62e5c42a-c434-4649-8af5-a2322357296a@obits.jameshcole.com
DTSTAMP:20260421T172807Z
DTSTART:20260424T190000Z
DTEND:20260425T000000Z
SUMMARY:Public Viewing
DESCRIPTION:
URL:https://obits.jameshcole.com/george-crenshaw
LOCATION:James H. Cole Home for Funerals - Northwest Chapel 16100 
	Schaefer Hwy.  Detroit MI 48235
GEO:42.4096884;-83.1791774
END:VEVENT
END:VCALENDAR