BEGIN:VCALENDAR
VERSION:2.0
PRODID:-//Tukios.com/
BEGIN:VEVENT
UID:098d6ab8-8dcb-460b-b8c5-71fc72ea2a49@obits.jameshcole.com
DTSTAMP:20260421T172133Z
DTSTART:20260425T163000Z
DTEND:20260425T170000Z
SUMMARY:Family Hour
DESCRIPTION:
URL:https://obits.jameshcole.com/george-crenshaw
LOCATION:James H. Cole Home for Funerals - Northwest Chapel 16100 
	Schaefer Hwy.  Detroit MI 48235
GEO:42.4096884;-83.1791774
END:VEVENT
END:VCALENDAR