BEGIN:VCALENDAR
VERSION:2.0
PRODID:-//Tukios.com/
BEGIN:VEVENT
UID:b0e9f52b-8cc5-40e7-828e-3770a8c627f5@obits.jameshcole.com
DTSTAMP:20260421T171943Z
DTSTART:20260425
SUMMARY:Burial
DESCRIPTION:
URL:https://obits.jameshcole.com/george-crenshaw
LOCATION: 21661 E 14 Mile Rd  Clinton Township MI 48035
GEO:42.541904;-82.895027
END:VEVENT
END:VCALENDAR