BEGIN:VCALENDAR
VERSION:2.0
PRODID:-//Tukios.com/
BEGIN:VEVENT
UID:f6e90d25-3c64-45c9-a7f7-61343c58d970@obits.jameshcole.com
DTSTAMP:20260422T213629Z
DTSTART:20260429T160000Z
DTEND:20260430T010000Z
SUMMARY:Public Viewing
DESCRIPTION:
URL:https://obits.jameshcole.com/gregory-washington-2026
LOCATION:James H. Cole Home for Funerals - Northwest Chapel 16100 
	Schaefer Hwy.  Detroit MI 48235
GEO:42.4096884;-83.1791774
END:VEVENT
END:VCALENDAR