BEGIN:VCALENDAR
VERSION:2.0
PRODID:-//Tukios.com/
BEGIN:VEVENT
UID:2072e4d5-8088-47e2-8456-7a5cf3473ed1@obits.jameshcole.com
DTSTAMP:20260422T214240Z
DTSTART:20260430T190000Z
DTEND:20260430T200000Z
SUMMARY:Family Hour
DESCRIPTION:
URL:https://obits.jameshcole.com/gregory-washington-2026
LOCATION:James H. Cole Home for Funerals - Northwest Chapel 16100 
	Schaefer Hwy.  Detroit MI 48235
GEO:42.4096884;-83.1791774
END:VEVENT
END:VCALENDAR