BEGIN:VCALENDAR
VERSION:2.0
PRODID:-//Tukios.com/
BEGIN:VEVENT
UID:72b87e48-3d27-4a53-9832-9820cb968333@obits.jameshcole.com
DTSTAMP:20260421T001843Z
DTSTART:20260514T210000Z
DTEND:20260515T010000Z
SUMMARY:Public Viewing
DESCRIPTION:
URL:https://obits.jameshcole.com/kaleen-heath
LOCATION:James H. Cole Home for Funerals - Blvd. Chapel 2624 W. Grand 
	Blvd.  Detroit MI 48208
GEO:42.3639872;-83.0892109
END:VEVENT
END:VCALENDAR