BEGIN:VCALENDAR
VERSION:2.0
PRODID:-//Tukios.com/
BEGIN:VEVENT
UID:2a950ee0-c453-427b-b08d-cbac05587fde@obits.jameshcole.com
DTSTAMP:20260421T002021Z
DTSTART:20260515T170000Z
DTEND:20260515T180000Z
SUMMARY:Funeral Service
DESCRIPTION:Family Hour 12:00 PM
URL:https://obits.jameshcole.com/kaleen-heath
LOCATION:Triumph Church  East Campus 2760 E Grand Blvd  Detroit MI 48211
GEO:42.3749658;-83.0618603
END:VEVENT
END:VCALENDAR