BEGIN:VCALENDAR
VERSION:2.0
PRODID:-//Tukios.com/
BEGIN:VEVENT
UID:9ab0cc00-9ef4-4951-8b78-f19c727a17b7@obits.jameshcole.com
DTSTAMP:20260421T002001Z
DTSTART:20260515T190000Z
DTEND:20260515T200000Z
SUMMARY:Burial
DESCRIPTION:
URL:https://obits.jameshcole.com/kaleen-heath
LOCATION: 5210 Mt Elliott St  Detroit MI 48211
GEO:42.3722426;-83.0285163
END:VEVENT
END:VCALENDAR