BEGIN:VCALENDAR
VERSION:2.0
PRODID:-//Tukios.com/
BEGIN:VEVENT
UID:63e09a21-2951-411d-81b6-5c6db62a41a8@obits.jameshcole.com
DTSTAMP:20260425T203025Z
DTSTART:20260507T200000Z
DTEND:20260508T010000Z
SUMMARY:Visitation
DESCRIPTION:
URL:https://obits.jameshcole.com/leon-meeks-sr
LOCATION: 2624 W Grand Blvd  Detroit MI 48208
GEO:42.3639872;-83.0892109
END:VEVENT
END:VCALENDAR