BEGIN:VCALENDAR
VERSION:2.0
PRODID:-//Tukios.com/
BEGIN:VEVENT
UID:92c391e1-4777-429e-b520-15118763dfd1@obits.jameshcole.com
DTSTAMP:20260425T203713Z
DTSTART:20260508T170000Z
DTEND:20260508T180000Z
SUMMARY:Funeral Service
DESCRIPTION:Family Hour:  Friday 12:30-1:00
URL:https://obits.jameshcole.com/leon-meeks-sr
LOCATION: 2624 W Grand Blvd  Detroit MI 48208
GEO:42.3639872;-83.0892109
END:VEVENT
END:VCALENDAR