BEGIN:VCALENDAR
VERSION:2.0
PRODID:-//Tukios.com/
BEGIN:VEVENT
UID:ca71b452-78b4-4e79-9080-d3d0c7b07fd6@obits.jameshcole.com
DTSTAMP:20260421T220320Z
DTSTART:20260502T193000Z
DTEND:20260502T203000Z
SUMMARY:Memorial Service
DESCRIPTION:Family Hour 3:00pm
URL:https://obits.jameshcole.com/lorraine-vance
LOCATION:James H. Cole Home for Funerals - Blvd. Chapel 2624 W. Grand 
	Blvd.  Detroit MI 48208
GEO:42.3639872;-83.0892109
END:VEVENT
END:VCALENDAR