BEGIN:VCALENDAR
VERSION:2.0
PRODID:-//Tukios.com/
BEGIN:VEVENT
UID:84d836c7-df69-4ac5-a9d1-3008aa112712@obits.jameshcole.com
DTSTAMP:20260421T084643Z
DTSTART:20260418T150000Z
DTEND:20260418T160000Z
SUMMARY:Funeral Service
DESCRIPTION:Family Hour 10:30 AM
URL:https://obits.jameshcole.com/marc-doss-sr
LOCATION:James H. Cole Home for Funerals - Blvd. Chapel 2624 W. Grand 
	Blvd.  Detroit MI 48208
GEO:42.3639872;-83.0892109
END:VEVENT
END:VCALENDAR