BEGIN:VCALENDAR
VERSION:2.0
PRODID:-//Tukios.com/
BEGIN:VEVENT
UID:8390f15f-e39b-4dc4-b1c8-92a4d9b110d9@obits.jameshcole.com
DTSTAMP:20260422T214653Z
DTSTART:20260502T140000Z
DTEND:20260502T150000Z
SUMMARY:Family Hour
DESCRIPTION:
URL:https://obits.jameshcole.com/marie-brooks
LOCATION:Greater Middle Missionary Baptist Church 20535 James Couzens Fwy 
	 Detroit MI 48235
GEO:42.4433723;-83.2024917
END:VEVENT
END:VCALENDAR