BEGIN:VCALENDAR
VERSION:2.0
PRODID:-//Tukios.com/
BEGIN:VEVENT
UID:2792a639-b476-4197-aaad-d77083718a24@obits.jameshcole.com
DTSTAMP:20260420T235627Z
DTSTART:20260503T140000Z
DTEND:20260503T230000Z
SUMMARY:Public Viewing
DESCRIPTION:
URL:https://obits.jameshcole.com/michael-white
LOCATION:James H. Cole Home for Funerals - Northwest Chapel 16100 
	Schaefer Hwy.  Detroit MI 48235
GEO:42.4096884;-83.1791774
END:VEVENT
END:VCALENDAR