BEGIN:VCALENDAR
VERSION:2.0
PRODID:-//Tukios.com/
BEGIN:VEVENT
UID:cc5207b1-a6f8-49b7-92ca-0978488034e4@obits.jameshcole.com
DTSTAMP:20260423T004226Z
DTSTART:20260505T150000Z
DTEND:20260505T160000Z
SUMMARY:Funeral Service
DESCRIPTION:
URL:https://obits.jameshcole.com/ronald-roberts-jr
LOCATION:James H. Cole Home for Funerals - Northwest Chapel 16100 
	Schaefer Hwy.  Detroit MI 48235
GEO:42.4096884;-83.1791774
END:VEVENT
END:VCALENDAR