BEGIN:VCALENDAR
VERSION:2.0
PRODID:-//Tukios.com/
BEGIN:VEVENT
UID:b8b6f760-b465-41d3-bd77-0a648c1947de@obits.jameshcole.com
DTSTAMP:20260423T004730Z
DTSTART:20260505T143000Z
DTEND:20260505T150000Z
SUMMARY:Family Hour
DESCRIPTION:
URL:https://obits.jameshcole.com/ronald-roberts-jr
LOCATION:James H. Cole Home for Funerals - Northwest Chapel 16100 
	Schaefer Hwy.  Detroit MI 48235
GEO:42.4096884;-83.1791774
END:VEVENT
END:VCALENDAR