BEGIN:VCALENDAR
VERSION:2.0
PRODID:-//Tukios.com/
BEGIN:VEVENT
UID:bd50f6dd-f17c-49b8-9379-45bbcd2cb5ce@obits.jameshcole.com
DTSTAMP:20260423T012155Z
DTSTART:20260501T200000Z
DTEND:20260502T010000Z
SUMMARY:Visitation
DESCRIPTION:
URL:https://obits.jameshcole.com/valerie-lee
LOCATION: 2624 W Grand Blvd  Detroit MI 48208
GEO:42.3639872;-83.0892109
END:VEVENT
END:VCALENDAR