BEGIN:VCALENDAR
VERSION:2.0
PRODID:-//Tukios.com/
BEGIN:VEVENT
UID:9fbee3b4-079e-4f87-b0ea-54760102f4f1@obits.jameshcole.com
DTSTAMP:20260423T012226Z
DTSTART:20260502T150000Z
DTEND:20260502T160000Z
SUMMARY:Funeral Service
DESCRIPTION:Family Hour: Saturday 10:00-11:00
URL:https://obits.jameshcole.com/valerie-lee
LOCATION: 5050 St Antoine  Detroit MI 48202
GEO:42.360304;-83.0569637
END:VEVENT
END:VCALENDAR