BEGIN:VCALENDAR
VERSION:2.0
PRODID:-//Tukios.com/
BEGIN:VEVENT
UID:4f4aa2f7-32f6-48f7-992a-50a34e98784e@obits.jameshcole.com
DTSTAMP:20260422T002447Z
DTSTART:20260430T200000Z
DTEND:20260501T010000Z
SUMMARY:Visitation
DESCRIPTION:
URL:https://obits.jameshcole.com/wendelin-sigh
LOCATION: 2624 W Grand Blvd  Detroit MI 48208
GEO:42.3639872;-83.0892109
END:VEVENT
END:VCALENDAR