BEGIN:VCALENDAR
VERSION:2.0
PRODID:-//Tukios.com/
BEGIN:VEVENT
UID:0ff919c6-212d-4c2e-9797-bf198114c02c@obits.jameshcole.com
DTSTAMP:20260422T002455Z
DTSTART:20260501T160000Z
DTEND:20260501T170000Z
SUMMARY:Funeral Service
DESCRIPTION:Family Hour: Friday 11:00-12:00
URL:https://obits.jameshcole.com/wendelin-sigh
LOCATION: 3000 24th St  Detroit MI 48216
GEO:42.3322955;-83.0920876
END:VEVENT
END:VCALENDAR